BEGIN:VCALENDAR
VERSION:2.0
PRODID:Spatie calendar-links
BEGIN:VEVENT
UID:59d7548a3b6e0469db1f6004ad83e592
SUMMARY:Auffrischung für Ausbilder
DTSTAMP:20261001T063000Z
DTSTART:20261001T063000Z
DTEND:20261002T113000Z
DESCRIPTION: Ausbilden heißt: dranbleiben!   Die Inhalte\, Erwartungen und Werkzeuge in der Berufsausbildung verändern sich ständig ¿ wer heute ausbildet\, braucht mehr als Grundlagenwissen von gestern.   Ziel ist es\, die fachlichen\, pädagogischen und rechtlichen Kenntnisse von Ausbildern aufzufrischen und ihre Handlungskompetenz in der Ausbildungspraxis zu stärken.   – 
LOCATION:IHK Lahn-Dill\, Geschäftsstelle Dillenburg\, Am Nebelsberg 1\, 35685 Dillenburg
END:VEVENT
END:VCALENDAR