BEGIN:VCALENDAR
VERSION:2.0
PRODID:Spatie calendar-links
BEGIN:VEVENT
UID:13e0103a457f97efd0263a1ded5a57ac
SUMMARY:Auffrischung für Ausbilder
DTSTAMP:20270503T060000Z
DTSTART:20270503T060000Z
DTEND:20270504T120000Z
DESCRIPTION: Ausbilden heißt: dranbleiben!   Die Inhalte\, Erwartungen und Werkzeuge in der Berufsausbildung verändern sich ständig ¿ wer heute ausbildet\, braucht mehr als Grundlagenwissen von gestern.   Ziel ist es\, die fachlichen\, pädagogischen und rechtlichen Kenntnisse von Ausbildern aufzufrischen und ihre Handlungskompetenz in der Ausbildungspraxis zu stärken.   – 
LOCATION:IHK Lahn-Dill\, Geschäftsstelle Wetzlar\, Friedenstr. 2\, 35578 Wetzlar
END:VEVENT
END:VCALENDAR