BEGIN:VCALENDAR
VERSION:2.0
PRODID:Spatie calendar-links
BEGIN:VEVENT
UID:133cd774f6d6f48b7550320bf84038a8
SUMMARY:Auffrischung für Ausbilder
DTSTAMP:20271206T070000Z
DTSTART:20271206T070000Z
DTEND:20271207T130000Z
DESCRIPTION: Ausbilden heißt: dranbleiben!   Die Inhalte\, Erwartungen und Werkzeuge in der Berufsausbildung verändern sich ständig ¿ wer heute ausbildet\, braucht mehr als Grundlagenwissen von gestern.   Ziel ist es\, die fachlichen\, pädagogischen und rechtlichen Kenntnisse von Ausbildern aufzufrischen und ihre Handlungskompetenz in der Ausbildungspraxis zu stärken.   – 
LOCATION:IHK Lahn-Dill\, Geschäftsstelle Dillenburg\, Am Nebelsberg 1\, 35685 Dillenburg
END:VEVENT
END:VCALENDAR