BEGIN:VCALENDAR
VERSION:2.0
PRODID:Spatie calendar-links
BEGIN:VEVENT
UID:804e09a29d00fe3e816ab792e0bf8808
SUMMARY:Azubi-Fit: Texttraining für Auszubildende - richtig gut schreiben im Beruf
DTSTAMP:20261112T073000Z
DTSTART:20261112T073000Z
DTEND:20261112T150000Z
DESCRIPTION: &#183\;––––  Ausbildungsnachweise\, interner und externer Schriftverkehr\, Präsentationen &#8211\; schon in der Ausbildung sind aussagekräftige und korrekte Texte gefragt. Im Texttraining lernen Azubis\, wie sie Texte und insbe&#173\;sondere E-Mails und Briefe zielgruppenorientiert und richtig schreiben. Sie lernen die Standards geschäftlicher Korrespondenz kennen und erfahren\, wie sie zeitgemäß und lesefreundlich schriftlich formulieren.  &#183\;–––––––   – 
LOCATION:Industrie- und Handelskammer Limburg\, Walderdorffstraße 7\, 65549 Limburg
END:VEVENT
END:VCALENDAR