BEGIN:VCALENDAR
VERSION:2.0
PRODID:Spatie calendar-links
BEGIN:VEVENT
UID:13dad85425b6eb39066ebd68552729b7
SUMMARY:Seminar für Existenzgründer und Nachfolger
DTSTAMP:20260420T220000Z
DTSTART:20260420T220000Z
DTEND:20260525T220000Z
DESCRIPTION: Das IHK Existenzgründungs-Seminar soll Ihnen einen Einblick in die wichtigsten Themen und Fragestellungen rund um die Existenzgründung liefern und Ihre Fragen klären. Dabei richtet sich das Seminar auch an Unternehmensnachfolger.   Jedes Modul wird von einem erfahrenen Experten begleitet\, der Ihnen die Thematik fachlich fundiert erklärt.   –  
LOCATION:Industrie- und Handelskammer Limburg\, Walderdorffstraße 7\, 65549 Limburg
END:VEVENT
END:VCALENDAR