BEGIN:VCALENDAR
VERSION:2.0
PRODID:Spatie calendar-links
BEGIN:VEVENT
UID:ac2986c6521e01db7ccada3d140964ce
SUMMARY:New Work in KMU: Ein interaktiver Einstieg
DTSTAMP:20260521T080000Z
DTSTART:20260521T080000Z
DTEND:20260521T103000Z
LOCATION:Online
END:VEVENT
END:VCALENDAR