BEGIN:VCALENDAR
VERSION:2.0
PRODID:Spatie calendar-links
BEGIN:VEVENT
UID:c8e5c8240bc852e8ed68ffd60593a310
SUMMARY:Green Claims\, Marken & Patente: Rechtssicher werben und Innovation schützen
DTSTAMP:20260512T080000Z
DTSTART:20260512T080000Z
DTEND:20260512T090000Z
LOCATION:Online
END:VEVENT
END:VCALENDAR