BEGIN:VCALENDAR
VERSION:2.0
PRODID:Spatie calendar-links
BEGIN:VEVENT
UID:aa240f0ade965608ffb7a7f80b2b3b8f
SUMMARY:CE-Kennzeichnung systematisch meistern - ein Lösungsansatz aus der Praxis
DTSTAMP:20260429T110000Z
DTSTART:20260429T110000Z
DTEND:20260429T123000Z
LOCATION:Online
END:VEVENT
END:VCALENDAR