BEGIN:VCALENDAR
VERSION:2.0
PRODID:Spatie calendar-links
BEGIN:VEVENT
UID:8870aaaf5dfd7add874b6fa6a58a7460
SUMMARY:Gefährdungsbeurteilung psychischer Belastungen - Handlungshilfen für Unternehmen
DTSTAMP:20261104T130000Z
DTSTART:20261104T130000Z
DTEND:20261104T163000Z
DESCRIPTION: Seit 2013 ist jeder Betrieb gemäß §§ 5 und 6 Arbeitsschutzgesetz (ArbSchG) verpflichtet\, die Arbeitsbedingungen strukturiert zu untersuchen und die daraus möglicherweise resultierenden Belastungen und Gesundheitsgefährdungen zu erfassen\, Handlungsmaßnahmen zu entwickeln und das Ganze zu dokumentieren. Je nach Branche\, Betrieb\, Arbeitsplatz und Art der Tätigkeit kann eine Vorgehensweise aber sehr unterschiedlich sein\, so dass hier der Gesetzgeber Spielräume gelassen hat.  Dieses Kurz-Seminar vermittelt Ihnen neben dem Überblick über die rechtlichen Grundlagen wichtige Anforderungen der Aufsichtsbehörden. Darüber hinaus erhalten Sie einen Überblick über Ihre Möglichkeiten und die einzelnen Handlungsschritte und Analysetools\, so dass Sie die Voraussetzungen zur Erfüllung der gesetzlichen Ansprüche kennen und die &bdquo\;Gefährdungsbeurteilung psychische Belastungen&ldquo\; auch bei Ihnen schnell\, effektiv\, kostengünstig und rechtssicher durchgeführt werden kann. 
LOCATION:Live-Online-Training
END:VEVENT
END:VCALENDAR