BEGIN:VCALENDAR
VERSION:2.0
PRODID:Spatie calendar-links
BEGIN:VEVENT
UID:8605abed97b5ee814b409014f539fdf4
SUMMARY:Führen\, aber richtig!
DTSTAMP:20261101T230000Z
DTSTART:20261101T230000Z
DTEND:20261102T230000Z
DESCRIPTION: Richtige Führung ist eine Frage der Definition und von verschiedenen individuellen Faktoren abhängig. In diesem Seminar ist die Leistung der Mitarbeitenden\, unter Berücksichtigung ihrer Motivation und Erhaltung der langfristigen Leistungsfähigkeit\, das wesentliche Kriterium. Führungskräfte\, die sowohl die relevanten Faktoren sicher einschätzen können als auch über vielfältige Möglichkeiten zur Beeinflussung des Mitarbeiterverhaltens verfügen und dabei das Ziel im Auge behalten\, führen richtig. Erweitern Sie in dieser Veranstaltung Ihr persönliches Führungspotenzial. 
LOCATION:Niederrheinische IHK\, Mercatorstr. 22-24\, 47051 Duisburg
END:VEVENT
END:VCALENDAR