BEGIN:VCALENDAR
VERSION:2.0
PRODID:Spatie calendar-links
BEGIN:VEVENT
UID:cffdaac79b6a165aa000bc8821b9c4e6
SUMMARY:Unterrichtungsverfahren für Spielgeräteaufsteller nach § 33c der Gewerbeordnung
DTSTAMP:20260522T070000Z
DTSTART:20260522T070000Z
DTEND:20260522T120000Z
DESCRIPTION: Der Unterrichtungsnachweis über die Teilnahme am Unterrichtungsverfahren   Für Spielgeräteaufsteller nach § 33c der Gewerbeordnung wird am Ende der Veranstaltung ausgeteilt. 
LOCATION:Niederrheinische IHK\, Mercatorstr. 22-24\, 47051 Duisburg
END:VEVENT
END:VCALENDAR