BEGIN:VCALENDAR
VERSION:2.0
PRODID:Spatie calendar-links
BEGIN:VEVENT
UID:a0dddb3f023ec88d18645d22191fe911
SUMMARY:Fachkraft für Controlling (IHK)
DTSTAMP:20260518T063000Z
DTSTART:20260518T063000Z
DTEND:20260706T104500Z
DESCRIPTION: Das Controlling analysiert aktuelle Daten und schafft Prognosen für die Zukunft. Dies dient der vorausschauenden und ergebnisorientierten Steuerung des Unternehmens. Als Fachkraft für Controlling verfügen Sie über die notwendigen Kenntnisse\, um die Instrumente des Controllings gezielt einzusetzen und weiter zu entwickeln. Sie helfen dabei\, Unternehmenszahlen zu interpretieren und leiten aus ermittelten Zielabweichungen die richtigen Schlüsse für Ihr Unternehmen ab. 
LOCATION:Live-Online-Training
END:VEVENT
END:VCALENDAR