BEGIN:VCALENDAR
VERSION:2.0
PRODID:Spatie calendar-links
BEGIN:VEVENT
UID:41f74c4a58b29ccf603b055959a83683
SUMMARY:Online-Prüfungsvorbereitung - Teil 1 - Alle IT Berufe
DTSTAMP:20260608T150000Z
DTSTART:20260608T150000Z
DTEND:20260907T163000Z
DESCRIPTION: Diese Online-Prüfungsvorbereitung stellt eine optimale Vorbereitung auf Teil 1 der Abschlussprüfung für Alle IT-Berufe dar. Es findet regelmäßig Live-Online-Unterricht statt. Für jeden Termin erhalten Sie zum Tagesthema passende Aufgaben\, die sich an ehemaligen Prüfungsaufgaben orientieren. Die wichtigsten Aufgaben werden in den Live-Online-Trainings direkt gemeinsam gelöst. 
LOCATION:Live-Online-Training
END:VEVENT
END:VCALENDAR