BEGIN:VCALENDAR
VERSION:2.0
PRODID:Spatie calendar-links
BEGIN:VEVENT
UID:338c21037d9e7d2e230899afc8cae1cb
SUMMARY:Online-Prüfungsvorbereitung - Teil 1 - Alle IT Berufe
DTSTAMP:20260727T170000Z
DTSTART:20260727T170000Z
DTEND:20260923T183000Z
DESCRIPTION: Diese Online-Prüfungsvorbereitung stellt eine optimale Vorbereitung auf Teil 1 der Abschlussprüfung für Alle IT-Berufe dar. Es findet regelmäßig Live-Online-Unterricht statt. Für jeden Termin erhalten Sie zum Tagesthema passende Aufgaben\, die sich an ehemaligen Prüfungsaufgaben orientieren. Die wichtigsten Aufgaben werden in den Live-Online-Trainings direkt gemeinsam gelöst. 
LOCATION:Live-Online-Training
END:VEVENT
END:VCALENDAR