BEGIN:VCALENDAR
VERSION:2.0
PRODID:Spatie calendar-links
BEGIN:VEVENT
UID:85b4873cb22d87392959e2b6b26a3e8d
SUMMARY:Online-Prüfungsvorbereitung - Teil 1 - Alle IT Berufe
DTSTAMP:20260810T150000Z
DTSTART:20260810T150000Z
DTEND:20260928T163000Z
DESCRIPTION: Diese Online-Prüfungsvorbereitung stellt eine optimale Vorbereitung auf Teil 1 der Abschlussprüfung für Alle IT-Berufe dar. Es findet regelmäßig Live-Online-Unterricht statt. Für jeden Termin erhalten Sie zum Tagesthema passende Aufgaben\, die sich an ehemaligen Prüfungsaufgaben orientieren. Die wichtigsten Aufgaben werden in den Live-Online-Trainings direkt gemeinsam gelöst. 
LOCATION:Live-Online-Training
END:VEVENT
END:VCALENDAR