BEGIN:VCALENDAR
VERSION:2.0
PRODID:Spatie calendar-links
BEGIN:VEVENT
UID:8505c01fb866cb5a81a800bfc274b402
SUMMARY:Online-Prüfungsvorbereitung - Teil 1 - Alle IT Berufe
DTSTAMP:20260908T063000Z
DTSTART:20260908T063000Z
DTEND:20260918T100000Z
DESCRIPTION: Diese Online-Prüfungsvorbereitung stellt eine optimale Vorbereitung auf Teil 1 der Abschlussprüfung für Alle IT-Berufe dar. Es findet regelmäßig Live-Online-Unterricht statt. Für jeden Termin erhalten Sie zum Tagesthema passende Aufgaben\, die sich an ehemaligen Prüfungsaufgaben orientieren. Die wichtigsten Aufgaben werden in den Live-Online-Trainings direkt gemeinsam gelöst. 
LOCATION:Live-Online-Training
END:VEVENT
END:VCALENDAR