BEGIN:VCALENDAR
VERSION:2.0
PRODID:Spatie calendar-links
BEGIN:VEVENT
UID:62c0db3b4df4093c30f117295e452be8
SUMMARY:Sich selbst bewusst führen - Mit innerem Kompass wirksam handeln
DTSTAMP:20260428T070000Z
DTSTART:20260428T070000Z
DTEND:20260429T150000Z
LOCATION:Zentrum für Weiterbildung Ludwigshafen
END:VEVENT
END:VCALENDAR