BEGIN:VCALENDAR
VERSION:2.0
PRODID:Spatie calendar-links
BEGIN:VEVENT
UID:602e88b0dd92c55ba70467b0cb5ea073
SUMMARY:Sich selbst bewusst führen - Mit innerem Kompass wirksam handeln
DTSTAMP:20261028T080000Z
DTSTART:20261028T080000Z
DTEND:20261029T160000Z
LOCATION:IHK Pfalz\, Ludwigsplatz 2-4 67059 Ludwigshafen
END:VEVENT
END:VCALENDAR