BEGIN:VCALENDAR
VERSION:2.0
PRODID:Spatie calendar-links
BEGIN:VEVENT
UID:9ffca2a89d1be983cc414580d9e9934a
SUMMARY:Fit für Führung im Schichtbetrieb
DTSTAMP:20260427T220000Z
DTSTART:20260427T220000Z
DTEND:20260428T220000Z
DESCRIPTION:Die Teilnehmenden reflektieren ihr Rollenverständnis als erfahrene Führungskräfte im operativen Umfeld. Sie schärfen ihre Haltung\, entwickeln Klarheit über Erwartungen und stärken ihre kommunikativen Schlüsselkompetenzen für den Führungsalltag mit großen Teams. Vertiefen ihre Führungskompetenz im Umgang mit Mitarbeitenden\, Konflikten und herausfordernden Situationen. Der Fokus liegt auf Motivation\, Konsequenz und lösungsorientiertem Handeln im Führungsalltag.
LOCATION:Zentrum für Weiterbildung Kaiserslautern Europaallee 14-16\, 67657 Kaiserslautern
END:VEVENT
END:VCALENDAR