BEGIN:VCALENDAR
VERSION:2.0
PRODID:Spatie calendar-links
BEGIN:VEVENT
UID:ed28bb2930a726efa9abc3c373ac5178
SUMMARY:Ausbildung der Ausbilder - Kompakt | Pirmasens
DTSTAMP:20260818T220000Z
DTSTART:20260818T220000Z
DTEND:20260907T220000Z
DESCRIPTION: Führen\, fördern und begeistern! Qualifizieren Sie sich für die Ausbildungsrolle und prägen Sie den Nachwuchs von morgen.   In unserem &bdquo\;Ausbildung der Ausbilder-Lehrgang&ldquo\; vermitteln wir Ihnen alle notwendigen Fähigkeiten\, um als Ausbilderin und Ausbilder nicht nur Fachwissen weiterzugeben\, sondern auch als Mentorin und Mentor zu agieren. Sie lernen\, wie Sie die Ausbildung selbstständig planen\, durchführen und kontrollieren. 
LOCATION:Zentrum für Weiterbildung Pirmasens Adam-Müller-Str. 6
END:VEVENT
END:VCALENDAR