BEGIN:VCALENDAR
VERSION:2.0
PRODID:Spatie calendar-links
BEGIN:VEVENT
UID:cf85a20f6ca643523e609836ed6698da
SUMMARY:Industriefachkraft für CNC-Technik (IHK)
DTSTAMP:20260929T220000Z
DTSTART:20260929T220000Z
DTEND:20261125T230000Z
LOCATION:Externe Veranstaltung
END:VEVENT
END:VCALENDAR