BEGIN:VCALENDAR
VERSION:2.0
PRODID:Spatie calendar-links
BEGIN:VEVENT
UID:1c9e85fc41c1c5e3b05c61f2cfd38c04
SUMMARY:Agile/r Projektmanager/in (IHK)
DTSTAMP:20260611T110000Z
DTSTART:20260611T110000Z
DTEND:20260904T150000Z
DESCRIPTION: Als Zielsetzung wird vor allem der Erwerb von Handlungskompetenzen für den effizienten Einsatz agiler Methoden in der Praxis gesehen. Weitere Ziele umfassen das Verständnis der Grundhaltung hinter dem Begriff &bdquo\;Agilität&ldquo\;\, wo im Unternehmen diese wirksam eingesetzt werden sowie der Erwerb einer konkreten Toolbox agiler Methoden und Inhalte\, die dann in ein bestehendes System eingebracht werden können.   Die Absolventinnen und Absolventen können    den unterschiedlichen Bedarf an agilen Ansätzen in ihrer Organisation bestmöglich abdecken.   neue Entwicklungen in ihrer Organisation einbringen.   sich den Herausforderungen in Bezug auf Komplexität\, Schnelllebigkeit und Digitalisierung stellen.    Unternehmen mit einem agilen Projektmanagement     können Projekte mit Fokus auf Schnelligkeit\, Feedback und Qualität erfolgreich umsetzen.   sichern langfristig eine wettbewerbsfähige Unternehmensentwicklung.    – 
LOCATION:Online-Veranstaltung via Microsoft-Teams
END:VEVENT
END:VCALENDAR