BEGIN:VCALENDAR
VERSION:2.0
PRODID:Spatie calendar-links
BEGIN:VEVENT
UID:cb46af0b9eaea2b0e078b38e3b97a97e
SUMMARY:schriftliche und praktische AEVO Prüfung Nr. 3 im Juli 2026
DTSTAMP:20260706T220000Z
DTSTART:20260706T220000Z
DTEND:20260707T220000Z
DESCRIPTION: Prüfung zum Nachweis der berufs- und arbeitspädagogischen Kenntnisse gemäß der Ausbilder-Eignungsverordnung vom 21. Januar 2009.   Bitte geben Sie uns bei Ihrer Anmeldung über das Bemerkungsfeld eine Information\, falls Sie nur an der schriftlichen Prüfung oder nur an der praktischen Prüfung teilnehmen wollen.    
LOCATION:IHK Bodensee-Oberschwaben
END:VEVENT
END:VCALENDAR