BEGIN:VCALENDAR
VERSION:2.0
PRODID:Spatie calendar-links
BEGIN:VEVENT
UID:59520c67261981a737ad4cf9675b3e3d
SUMMARY:Incoterms® 2000 - 2020 - Neuerungen und Basic in Praxis und Theorie
DTSTAMP:20261007T063000Z
DTSTART:20261007T063000Z
DTEND:20261007T100000Z
DESCRIPTION: Incoterms bilden heute die Basis für viele internationale\, aber auch nationale Geschäftsabschlüsse. Viele Entwicklungen der letzten Jahre haben dazu geführt\, dass diese auch standardisiert im globalen Geschäft angewendet werden. In der Praxis auch weit verbreitet sind die Incoterms 2010&#174\;. Zwischenzeitlich sind die Incoterms 2020&#174\; verfügbar und zum Einsatz bereit.Veränderungen zu anderen vorher veröffentlichten Terms sind vorhanden und werden in einem Halbtagsseminar verständlich und praxisorientiert in Form eines Workshops aufgearbeitet. 
LOCATION:IHK Bodensee-Oberschwaben
END:VEVENT
END:VCALENDAR