BEGIN:VCALENDAR
VERSION:2.0
PRODID:Spatie calendar-links
BEGIN:VEVENT
UID:dac728d840129c5e2ca2ddd42ee91697
SUMMARY:Naturwissenschaftlich-Technische Grundlagen (NTG)
DTSTAMP:20260702T153000Z
DTSTART:20260702T153000Z
DTEND:20260723T184500Z
DESCRIPTION:Dieser Lehrgang richtet sich an alle Interessenten praxisnaher Industriemeister-Kurse aller Fachrichtungen sowie des Technischen Fachwirts. Besonders empfohlen wird den Teilnehmenden\, deren Schulzeit bereits einige Jahre zurückliegt oder die sich in Mathematik noch sicherer fühlen möchten. Er bietet eine fundierte Vorbereitung und schafft eine solide Basis für den erfolgreichen Einstieg in den Prüfungsvorbereitungslehrgang.  – 
LOCATION:Online
END:VEVENT
END:VCALENDAR