BEGIN:VCALENDAR
VERSION:2.0
PRODID:Spatie calendar-links
BEGIN:VEVENT
UID:5606273fd67a222be0c6d2993d6d4f13
SUMMARY:Excel Aufbau/Modul 2
DTSTAMP:20260506T063000Z
DTSTART:20260506T063000Z
DTEND:20260506T140000Z
DESCRIPTION: Dieses Seminar richtet sich an Excel-Benutzer\, die ihr Kalkulationsprogramm noch effektiver und noch breiter einsetzen wollen. Der Teilnehmer lernt hier systematisch\, die mächtigen Werkzeuge von Excel einzusetzen. 
LOCATION:IHK Bodensee-Oberschwaben
END:VEVENT
END:VCALENDAR