BEGIN:VCALENDAR
VERSION:2.0
PRODID:Spatie calendar-links
BEGIN:VEVENT
UID:edd753f40ce4de951e0bd2793baebc2c
SUMMARY:Excel Aufbau/Modul 2
DTSTAMP:20261007T063000Z
DTSTART:20261007T063000Z
DTEND:20261007T140000Z
DESCRIPTION: Dieses Seminar richtet sich an Excel-Benutzer\, die ihr Kalkulationsprogramm noch effektiver und noch breiter einsetzen wollen. Der Teilnehmer lernt hier systematisch\, die mächtigen Werkzeuge von Excel einzusetzen. 
LOCATION:IHK Bodensee-Oberschwaben
END:VEVENT
END:VCALENDAR