BEGIN:VCALENDAR
VERSION:2.0
PRODID:Spatie calendar-links
BEGIN:VEVENT
UID:0f8d5fac18868071ad9d6b5b68ddd2d6
SUMMARY:Excel Aufbau/Modul 2
DTSTAMP:20261202T073000Z
DTSTART:20261202T073000Z
DTEND:20261202T150000Z
DESCRIPTION: Dieses Seminar richtet sich an Excel-Benutzer\, die ihr Kalkulationsprogramm noch effektiver und noch breiter einsetzen wollen. Der Teilnehmer lernt hier systematisch\, die mächtigen Werkzeuge von Excel einzusetzen. 
LOCATION:IHK Bodensee-Oberschwaben
END:VEVENT
END:VCALENDAR