BEGIN:VCALENDAR
VERSION:2.0
PRODID:Spatie calendar-links
BEGIN:VEVENT
UID:513788fbe79edd40769f0501c9ab7bc1
SUMMARY:Excel Aufbau/Modul 3
DTSTAMP:20260518T063000Z
DTSTART:20260518T063000Z
DTEND:20260518T140000Z
DESCRIPTION: Dieses Seminar richtet sich an Excel-Benutzer\, die ihr Kalkulationsprogramm noch effektiver und noch breiter einsetzen wollen. Der Teilnehmer lernt hier systematisch\, die mächtigen Werkzeuge von Excel einzusetzen. 
LOCATION:IHK Bodensee-Oberschwaben
END:VEVENT
END:VCALENDAR