BEGIN:VCALENDAR
VERSION:2.0
PRODID:Spatie calendar-links
BEGIN:VEVENT
UID:23fb787c4f0a2b3206ecef37ececcbfd
SUMMARY:Excel Aufbau/Modul 3
DTSTAMP:20261207T073000Z
DTSTART:20261207T073000Z
DTEND:20261207T150000Z
DESCRIPTION: Dieses Seminar richtet sich an Excel-Benutzer\, die ihr Kalkulationsprogramm noch effektiver und noch breiter einsetzen wollen. Der Teilnehmer lernt hier systematisch\, die mächtigen Werkzeuge von Excel einzusetzen. 
LOCATION:IHK Bodensee-Oberschwaben
END:VEVENT
END:VCALENDAR