BEGIN:VCALENDAR
VERSION:2.0
PRODID:Spatie calendar-links
BEGIN:VEVENT
UID:502279de21f6b847e5cd4d9641675fe6
SUMMARY:Excel-Special: Verarbeiten von großen Datenmengen mit Pivot-Tabellen sowie Power-Pivot
DTSTAMP:20261026T073000Z
DTSTART:20261026T073000Z
DTEND:20261026T150000Z
DESCRIPTION: Große Exceltabellen sowie Daten aus externen Quellen schnell auswerten und Daten anschaulich präsentieren &#8211\; Excel bietet mit den Pivot-Tabellen und Pivot-Charts eine Sonderform der Verknüpfung zu Quelldaten\, eine leistungsstarke Ausweitungsmöglichkeit. Änderungen\, Ergänzungen und Hinzufügen neuer Elemente lassen sich so in einfachen Schritten erledigen. Im Seminar erlernt der Teilnehmer Pivot-Tabellen und Pivot-Charts sowie den Einsatz von Power-Pivot sinnvoll einzusetzen. 
LOCATION:IHK Bodensee-Oberschwaben
END:VEVENT
END:VCALENDAR