BEGIN:VCALENDAR
VERSION:2.0
PRODID:Spatie calendar-links
BEGIN:VEVENT
UID:4a67472e447b14859283e87e5364aefe
SUMMARY:Zeitmanagement
DTSTAMP:20260624T063000Z
DTSTART:20260624T063000Z
DTEND:20260624T140000Z
DESCRIPTION: Dieses Seminar soll Ihnen konkret Möglichkeiten und Wege aufzeigen\, wie Sie durch bewusste Arbeitsablauf-/Zeitgestaltung Ihre persönliche Effektivität steigern. 
LOCATION:IHK Bodensee-Oberschwaben
END:VEVENT
END:VCALENDAR