BEGIN:VCALENDAR
VERSION:2.0
PRODID:Spatie calendar-links
BEGIN:VEVENT
UID:dea7597cc9a54fc3d016bb1602840d26
SUMMARY:Zeitmanagement
DTSTAMP:20261110T073000Z
DTSTART:20261110T073000Z
DTEND:20261110T150000Z
DESCRIPTION: Dieses Seminar soll Ihnen konkret Möglichkeiten und Wege aufzeigen\, wie Sie durch bewusste Arbeitsablauf-/Zeitgestaltung Ihre persönliche Effektivität steigern. 
LOCATION:IHK Bodensee-Oberschwaben
END:VEVENT
END:VCALENDAR