BEGIN:VCALENDAR
VERSION:2.0
PRODID:Spatie calendar-links
BEGIN:VEVENT
UID:64262c818d207915d318fe386fe659fa
SUMMARY:Update Mietrecht
DTSTAMP:20260513T070000Z
DTSTART:20260513T070000Z
DTEND:20260513T140000Z
DESCRIPTION: Dieses zweiteilige Live-Online-Training bringt Sie in Sachen Mietrecht und Rechtsprechung auf den aktuellen Stand. Der zweite Teil vermittelt Ihnen\, worauf es aktuell im Gewerblichen Mietrecht ankommt. 
LOCATION:Online
END:VEVENT
END:VCALENDAR