BEGIN:VCALENDAR
VERSION:2.0
PRODID:Spatie calendar-links
BEGIN:VEVENT
UID:4aed0268401832034c1388cb1bb293fc
SUMMARY:Update Mietrecht
DTSTAMP:20261019T070000Z
DTSTART:20261019T070000Z
DTEND:20261019T140000Z
DESCRIPTION: Dieses zweiteilige Live-Online-Training bringt Sie in Sachen Mietrecht und Rechtsprechung auf den aktuellen Stand. Der zweite Teil vermittelt Ihnen\, worauf es aktuell im Gewerblichen Mietrecht ankommt. 
LOCATION:Online
END:VEVENT
END:VCALENDAR