BEGIN:VCALENDAR
VERSION:2.0
PRODID:Spatie calendar-links
BEGIN:VEVENT
UID:e0cef8f8ebff6a0a2a9627517ffae06b
SUMMARY:Update Mietrecht
DTSTAMP:20261110T080000Z
DTSTART:20261110T080000Z
DTEND:20261110T150000Z
DESCRIPTION: Dieses zweiteilige Live-Online-Training bringt Sie in Sachen Mietrecht und Rechtsprechung auf den aktuellen Stand. Der zweite Teil vermittelt Ihnen\, worauf es aktuell im Gewerblichen Mietrecht ankommt. 
LOCATION:Online
END:VEVENT
END:VCALENDAR