BEGIN:VCALENDAR
VERSION:2.0
PRODID:Spatie calendar-links
BEGIN:VEVENT
UID:e4ddeb928a96ba835fb5482fea66e142
SUMMARY:Update Mietrecht
DTSTAMP:20261201T080000Z
DTSTART:20261201T080000Z
DTEND:20261201T150000Z
DESCRIPTION: Dieses zweiteilige Live-Online-Training bringt Sie in Sachen Mietrecht und Rechtsprechung auf den aktuellen Stand. Der zweite Teil vermittelt Ihnen\, worauf es aktuell im Gewerblichen Mietrecht ankommt. 
LOCATION:Online
END:VEVENT
END:VCALENDAR