BEGIN:VCALENDAR
VERSION:2.0
PRODID:Spatie calendar-links
BEGIN:VEVENT
UID:c198d9a92807a594355ba09b8d5a9255
SUMMARY:Fit in Betriebskosten
DTSTAMP:20261109T080000Z
DTSTART:20261109T080000Z
DTEND:20261109T150000Z
DESCRIPTION: Am besten keine Unsicherheiten und keine Fehler. Dieses Live-Online-Training macht Sie fit für die gesetzeskonforme Umlage und Abrechnung der Betriebskosten gegenüber Mieter/innen von Wohnungen und Gewerbeflächen. Praxisnah\, lebendig und mit vielen Beispielen lernen Sie die einzelnen Betriebskostenarten exakt voneinander zu unterscheiden und entsprechend ihrer Umlagefähigkeit in einem strukturierten Verfahren rechtswirksam abzurechnen. Sichere und fehlerfreie Betriebskostenabrechnung - So geht&rsquo\;s! 
LOCATION:Online
END:VEVENT
END:VCALENDAR