BEGIN:VCALENDAR
VERSION:2.0
PRODID:Spatie calendar-links
BEGIN:VEVENT
UID:c701831adb92b223555b66ef824f3678
SUMMARY:Betrieblicher Datenschutzbeauftragter (IHK)
DTSTAMP:20260617T080000Z
DTSTART:20260617T080000Z
DTEND:20260707T130000Z
DESCRIPTION: Die EU-DSGVO führt Datenschutz und IT-Sicherheit stärker zusammen. Der Verantwortliche\, die Daten verarbeitende Stelle\, ist verpflichtet\, sich stetig um die Sicherheit seiner Daten zu kümmern und entsprechende Schutzmaßnahmen zu ergreifen. Um die Position des Datenschutzbeauftragten im Unternehmen bekleiden und die Aufgaben verantwortungsvoll umsetzen zu können\, benötigt der Datenschutzbeauftragte ein solides rechtliches und technisches Datenschutz-Grundlagenwissen. Der vorliegende bundeseinheitliche Zertifikatslehrgang vermittelt diese nach Art. 37 Abs. 5 EU-DSGVO erforderlichen Kenntnisse. Er richtet sich auch an kleine und mittlere Unternehmen (KMUs)\, die vor allem in der Zusammenarbeit mit größeren Unternehmen ihre Datenschutzkonformität nachweisen müssen. 
LOCATION:Online
END:VEVENT
END:VCALENDAR