BEGIN:VCALENDAR
VERSION:2.0
PRODID:Spatie calendar-links
BEGIN:VEVENT
UID:342a6f463ce0c590c8aad7bb2df121e1
SUMMARY:Strategischer Einkäufer (IHK)
DTSTAMP:20260526T063000Z
DTSTART:20260526T063000Z
DTEND:20260603T143000Z
DESCRIPTION:Dieser Zertifikatslehrgang liefert Ihnen einen Werkzeugkasten\, wie Sie Ihre Einkaufsprozesse und Ihr Lieferantenmanagement durch strategische Ausrichtung optimieren können.Sie erlernen Strategien und Methoden\, wie Sie durch Optimierung der Einkaufsprozesse und des Lieferantenmanagements Kosten reduzieren und die Wertschöpfung nachhaltig steigern können. Sie erfahren\, wie Rahmenverträge im Einkauf zur Steuerung von Liefer- und Preisrisiken sowie zur Prozessoptimierung eingesetzt werden können. Sie finden heraus\, wie Sie durch den Einsatz geeigneter Kennzahlen Ihre Einkaufsleistungen kontinuierlich prüfen und optimieren können. Sie lernen Verhandlungen in der Einkaufspraxis\, das Analysegespräch\, die Preisverhandlung oder die Reklamation ergebnisorientiert zu führen.
LOCATION:Online
END:VEVENT
END:VCALENDAR