BEGIN:VCALENDAR
VERSION:2.0
PRODID:Spatie calendar-links
BEGIN:VEVENT
UID:ebc8b5cef12b3de5dc7a6033418be033
SUMMARY:Effektive Nutzung von KI im Finanzwesen
DTSTAMP:20261207T080000Z
DTSTART:20261207T080000Z
DTEND:20261214T110000Z
DESCRIPTION:Der Sprint "Effektive Nutzung von KI im Finanzwesen" vermittelt praxisnahes Wissen über den Einsatz von Künstlicher Intelligenz (KI) im Finanzwesen. Die Teilnehmenden lernen\, wie Künstliche Intelligenz im Finanzwesen Prozesse optimieren und strategische Vorteile bieten kann. Praxisorientierte Module behandeln Anwendungsfälle\, wie generative und analytische KI-Lösungen\, ergänzt durch interaktive Übungen. Abschließend wird die strategische Integration von KI-Lösungen thematisiert und Zukunftsperspektiven in einem digitalisierten Finanzwesen aufgezeigt. Der Kurs ist in jeweils dreistündige Lerneinheiten gegliedert\, die sich auf theoretische Grundlagen\, praktische Anwendungen und zukunftsorientierte Diskussionen konzentrieren.
LOCATION:Online
END:VEVENT
END:VCALENDAR