BEGIN:VCALENDAR
VERSION:2.0
PRODID:Spatie calendar-links
BEGIN:VEVENT
UID:e3c5fbc96b0d8a1881d29f3fbbbe98cd
SUMMARY:Web Analyst (IHK) - Web Analytics verstehen und zielgenau
DTSTAMP:20260626T080000Z
DTSTART:20260626T080000Z
DTEND:20260824T130000Z
DESCRIPTION: Ob Tracking\, Performance oder Conversion - wer im Unternehmen\, in einer Verwaltung oder einer Organisation fundierte Entscheidungen darüber treffen möchte\, wie erfolgreich die eigenen Online-Marketingmaßnahmen sind und wie sie gezielt optimiert werden können\, muss verstehen\, wie die vielfältigen Daten rund um das Nutzerverhalten konsistent erhoben und analysiert werden. Von der eigenen Website über SEO/GEO oder SEA bis Social-Media: Web Analysten (IHK) schaffen Klarheit und Orientierung\, sie beraten und erstellen datenbasierte Entscheidungsvorlagen.   Nutzen für die Teilnehmerinnen und Teilnehmer: Fundierte Webanalysen sind gefragt. Recruiting: Wie lenken wir Interessierte auf unsere Stellenangebote? Vertrieb: Welche Online-Kanäle verkaufen\, welche nicht? Marketing: Welche Ads wirken? Welche Posts erzielen Resonanz? Web Analysten (IHK) agieren somit als unverzichtbare &bdquo\;Zuliefernde&ldquo\; und Beratende für viele Abteilungen bis hin zur Unternehmensführung. Realistische Strategien entwickeln\, Budgets wirkungsvoll einsetzen und Maßnahmen gezielt optimieren - dazu braucht es Web Analysten (IHK) und damit wird klar: Den Absolventinnen und Absolventen dieser Qualifizierung stehen zahlreiche Entwicklungs- und Karrierechancen offen. 
LOCATION:Online
END:VEVENT
END:VCALENDAR